BEGIN:VCALENDAR
VERSION:2.0
PRODID:spatie/icalendar-generator
NAME:Service: Team Global Passion [ZAGG 2022]
X-WR-CALNAME:Service: Team Global Passion [ZAGG 2022]
BEGIN:VTIMEZONE
TZID:Europe/Zurich
BEGIN:DAYLIGHT
DTSTART:20220327T020000
TZOFFSETFROM:+0100
TZOFFSETTO:+0200
END:DAYLIGHT
BEGIN:STANDARD
DTSTART:20221030T030000
TZOFFSETFROM:+0200
TZOFFSETTO:+0100
END:STANDARD
BEGIN:DAYLIGHT
DTSTART:20230326T020000
TZOFFSETFROM:+0100
TZOFFSETTO:+0200
END:DAYLIGHT
END:VTIMEZONE
BEGIN:VTIMEZONE
TZID:UTC
BEGIN:STANDARD
DTSTART:20250728T143945
TZOFFSETFROM:+0000
TZOFFSETTO:+0000
END:STANDARD
END:VTIMEZONE
BEGIN:VEVENT
UID:69eb80b164d43
DTSTAMP:20260424T143945Z
DTSTART;TZID=Europe/Zurich:20221024T120000
DTEND;TZID=Europe/Zurich:20221024T150000
SUMMARY:Service: Team Global Passion [ZAGG 2022]
DESCRIPTION:https://www.zagg.ch/de/e/service-team-global-passion.26914\n\nA
 m Montag\, 24. Oktober 2022 übernimmt das Team Global Passion von der B.H
 .M.S. Business & Hotel Management School in Luzern den Service am Battle o
 f ZAGG.
LOCATION:Halle 1\, Battle of ZAGG
END:VEVENT
END:VCALENDAR